BEGIN:VCALENDAR
VERSION:2.0
PRODID:-//Stadtverband Otterndorf - ECPv6.15.16//NONSGML v1.0//EN
CALSCALE:GREGORIAN
METHOD:PUBLISH
X-WR-CALNAME:Stadtverband Otterndorf
X-ORIGINAL-URL:https://cduotterndorf.de
X-WR-CALDESC:Veranstaltungen für Stadtverband Otterndorf
REFRESH-INTERVAL;VALUE=DURATION:PT1H
X-Robots-Tag:noindex
X-PUBLISHED-TTL:PT1H
BEGIN:VTIMEZONE
TZID:UTC
BEGIN:STANDARD
TZOFFSETFROM:+0000
TZOFFSETTO:+0000
TZNAME:UTC
DTSTART:20230101T000000
END:STANDARD
END:VTIMEZONE
BEGIN:VEVENT
DTSTART;TZID=UTC:20240906T190000
DTEND;TZID=UTC:20240906T233000
DTSTAMP:20260422T120054
CREATED:20240819T074722Z
LAST-MODIFIED:20240819T074723Z
UID:3446-1725649200-1725665400@cduotterndorf.de
SUMMARY:Grillfest 2024
DESCRIPTION:Liebe Mitglieder der CDU Otterndorf \n\n\n\nAm Freitag\, 6. September 2024 ab 19.00 Uhrfindet auf dem Hof Marienthal Schleuse 4\, Otterndorfbei Jochen von Stemmen unser diesjähriges Grillfest statt\, zu dem wir Sie herzlich einladen. \n\n\n\nEs gibt wie gewohnt Steak und Wurst vom Grill sowie Bier vom Fass. Dazu bitte ich jedoch um einen Beitrag von 10\,– € pro Person. Weitere Spenden sind willkommen. \n\n\n\nNeben unseren Mitgliedern sind Freunde\, Unterstützer und Interessierte sowie alle Mitglieder der benachbarten CDU Verbände natürlich ebenso willkommen! \n\n\n\nWir freuen uns auf einen informativen und gemütlichen Abend. Euer CDU-Stadtverband Otterndorf
URL:https://cduotterndorf.de/veranstaltung/grillfest-2024/
END:VEVENT
END:VCALENDAR